BEGIN:VCALENDAR
VERSION:2.0
PRODID:-//wp-events-plugin.com//7.2.3.1//EN
TZID:Europe/London
X-WR-TIMEZONE:Europe/London
BEGIN:VEVENT
UID:39@mansfieldchoral.org
DTSTART;TZID=Europe/London:20260704T180000
DTEND;TZID=Europe/London:20260704T203000
DTSTAMP:20260406T173129Z
URL:https://mansfieldchoral.org/events/4th-july-americana-concert/
SUMMARY:4th July An American Songbook Concert
DESCRIPTION:
CATEGORIES:Concert
LOCATION:Queen Elizabeths Academy\, 150 Chesterfield Road South\,  Mansfiel
 d\,  NG19 7AP\, United Kingdom
GEO:53.156193;-1.206456
X-APPLE-STRUCTURED-LOCATION;VALUE=URI;X-ADDRESS=150 Chesterfield Road South
 \,  Mansfield\,  NG19 7AP\, United Kingdom;X-APPLE-RADIUS=100;X-TITLE=Quee
 n Elizabeths Academy:geo:53.156193,-1.206456
END:VEVENT
BEGIN:VTIMEZONE
TZID:Europe/London
X-LIC-LOCATION:Europe/London
BEGIN:DAYLIGHT
DTSTART:20260329T020000
TZOFFSETFROM:+0000
TZOFFSETTO:+0100
TZNAME:BST
END:DAYLIGHT
END:VTIMEZONE
END:VCALENDAR