BEGIN:VCALENDAR
VERSION:2.0
PRODID:-//wp-events-plugin.com//7.2.3.1//EN
TZID:Europe/London
X-WR-TIMEZONE:Europe/London
BEGIN:VEVENT
UID:37@mansfieldchoral.org
DTSTART;TZID=Europe/London:20260502T123000
DTEND;TZID=Europe/London:20260502T170000
DTSTAMP:20260219T132532Z
URL:https://mansfieldchoral.org/events/661/
SUMMARY:Dress Rehearsal
DESCRIPTION:Final rehearsal on the day of the concert with the orchestra an
 d soloists.
CATEGORIES:Rehearsal
LOCATION:St Marks Church\, Nottingham Road\, Mansfield\, Nottinghamshire\, 
 NG18 1BP\, United Kingdom
GEO:53.138476;-1.197632
X-APPLE-STRUCTURED-LOCATION;VALUE=URI;X-ADDRESS=Nottingham Road\, Mansfield
 \, Nottinghamshire\, NG18 1BP\, United Kingdom;X-APPLE-RADIUS=100;X-TITLE=
 St Marks Church:geo:53.138476,-1.197632
END:VEVENT
BEGIN:VTIMEZONE
TZID:Europe/London
X-LIC-LOCATION:Europe/London
BEGIN:DAYLIGHT
DTSTART:20260329T020000
TZOFFSETFROM:+0000
TZOFFSETTO:+0100
TZNAME:BST
END:DAYLIGHT
END:VTIMEZONE
END:VCALENDAR