BEGIN:VCALENDAR
VERSION:2.0
PRODID:-//wp-events-plugin.com//7.2.3.1//EN
TZID:Europe/London
X-WR-TIMEZONE:Europe/London
BEGIN:VEVENT
UID:43@mansfieldchoral.org
DTSTART;TZID=Europe/London:20250426T193000
DTEND;TZID=Europe/London:20250426T213000
DTSTAMP:20260304T205105Z
URL:https://mansfieldchoral.org/events/baroque-masterpieces-concert-2/
SUMMARY:A Concert for Peace
DESCRIPTION:Requiem\n\nI Introit\n\nII Kyrie Eleison\n\nIII Domine Jesu Chr
 iste\n\nBaritone solo.......................Will Burn\n\nIV Sanctus\n\nV P
 ie Jesu\n\nMezzo- soprano solo ........Rosemary Braddy\n\nCello...........
 ..........................Edie Stell\n\nVI. Agnus Dei\n\nVII. Lux Aeterna\
 n\nVIII. Libera Me\n\nBaritone solo.......................Will Burn\n\nIX.
  In Paradisum\n\nInterval\n\nHow Lovely Is Thy Dwelling Place - Johannes B
 rahms\n\nAve verum corpus - Wolfgang Amadeus Mozart\n\nInsanae et Vane Cur
 ae - Franz Joseph Haydn\n\nAnd I Saw A New Heaven - Edgar L. Bainton\n\nAl
 legro from Concerto in A Minor\, Organ Solo - Peter Siepmann - Antonio Viv
 aldi\n\nUbi Caritas - Maurice Duruflé\n\nCantique de Jean Racine - Gabrie
 l Fauré\n\nThe Heavens Are Telling - Franz Joseph Haydn
ATTACH;FMTTYPE=image/jpeg:https://mansfieldchoral.org/wp-content/uploads/2
 026/03/Concert-Facebook-Posts-3.png
CATEGORIES:Concert
LOCATION:St Marks Church\, Nottingham Road\, Mansfield\, Nottinghamshire\, 
 NG18 1BP\, United Kingdom
GEO:53.138476;-1.197632
X-APPLE-STRUCTURED-LOCATION;VALUE=URI;X-ADDRESS=Nottingham Road\, Mansfield
 \, Nottinghamshire\, NG18 1BP\, United Kingdom;X-APPLE-RADIUS=100;X-TITLE=
 St Marks Church:geo:53.138476,-1.197632
END:VEVENT
BEGIN:VTIMEZONE
TZID:Europe/London
X-LIC-LOCATION:Europe/London
BEGIN:DAYLIGHT
DTSTART:20250330T020000
TZOFFSETFROM:+0000
TZOFFSETTO:+0100
TZNAME:BST
END:DAYLIGHT
END:VTIMEZONE
END:VCALENDAR