BEGIN:VCALENDAR
VERSION:2.0
PRODID:-//wp-events-plugin.com//7.2.3.1//EN
TZID:Europe/London
X-WR-TIMEZONE:Europe/London
BEGIN:VEVENT
UID:38@mansfieldchoral.org
DTSTART;TZID=Europe/London:20260502T193000
DTEND;TZID=Europe/London:20260502T213000
DTSTAMP:20260307T210507Z
URL:https://mansfieldchoral.org/events/baroque-masterpieces-concert/
SUMMARY:Baroque Masterpieces Concert
DESCRIPTION:Mansfield Choral Society return to St Marks church to perform a
  suite of Baroque masterpieces the Bach Magnificat in D major\, the Vivald
 i Gloriaand Jauchzet Frohlocket from Bachs Christmas Oratorio.\nThey are j
 oined by a 19 piece Baroque orchestra\, (English Pro Musica)\, Peter Siepm
 ann (Harpsichord) and soloists Will Burn (Bass)\, Matt Spillett (Tenor)\, 
 Nicola Hunt (Mezzo-Soprano)\, and Alison Rose (Soprano).\nTickets are avai
 lable on the door and online through:&nbsp\;&nbsp\;www.ticketsource.co.uk/
 mansfield-choral-society.\nhttps://mansfield-choral-society.sumupstore.com
ATTACH;FMTTYPE=image/jpeg:https://mansfieldchoral.org/wp-content/uploads/2
 026/02/Concert-Facebook-Posts.jpg
CATEGORIES:Concert
LOCATION:St Marks Church\, Nottingham Road\, Mansfield\, Nottinghamshire\, 
 NG18 1BP\, United Kingdom
GEO:53.138476;-1.197632
X-APPLE-STRUCTURED-LOCATION;VALUE=URI;X-ADDRESS=Nottingham Road\, Mansfield
 \, Nottinghamshire\, NG18 1BP\, United Kingdom;X-APPLE-RADIUS=100;X-TITLE=
 St Marks Church:geo:53.138476,-1.197632
END:VEVENT
BEGIN:VTIMEZONE
TZID:Europe/London
X-LIC-LOCATION:Europe/London
BEGIN:DAYLIGHT
DTSTART:20260329T020000
TZOFFSETFROM:+0000
TZOFFSETTO:+0100
TZNAME:BST
END:DAYLIGHT
END:VTIMEZONE
END:VCALENDAR