BEGIN:VCALENDAR
VERSION:2.0
PRODID:-//wp-events-plugin.com//7.2.3.1//EN
TZID:Europe/London
X-WR-TIMEZONE:Europe/London
BEGIN:VEVENT
UID:41@mansfieldchoral.org
DTSTART;TZID=Europe/London:20261212T150000
DTEND;TZID=Europe/London:20261212T173000
DTSTAMP:20260219T132929Z
URL:https://mansfieldchoral.org/events/christmas-concert/
SUMMARY:Christmas Concert
DESCRIPTION:
CATEGORIES:Concert
LOCATION:Queen Elizabeths Academy\, 150 Chesterfield Road South\,  Mansfiel
 d\,  NG19 7AP\, United Kingdom
GEO:53.156193;-1.206456
X-APPLE-STRUCTURED-LOCATION;VALUE=URI;X-ADDRESS=150 Chesterfield Road South
 \,  Mansfield\,  NG19 7AP\, United Kingdom;X-APPLE-RADIUS=100;X-TITLE=Quee
 n Elizabeths Academy:geo:53.156193,-1.206456
END:VEVENT
BEGIN:VTIMEZONE
TZID:Europe/London
X-LIC-LOCATION:Europe/London
BEGIN:STANDARD
DTSTART:20261025T010000
TZOFFSETFROM:+0100
TZOFFSETTO:+0000
TZNAME:GMT
END:STANDARD
END:VTIMEZONE
END:VCALENDAR