BEGIN:VCALENDAR
VERSION:2.0
PRODID:-//wp-events-plugin.com//7.2.3.1//EN
TZID:Europe/London
X-WR-TIMEZONE:Europe/London
BEGIN:VEVENT
UID:42@mansfieldchoral.org
DTSTART;TZID=Europe/London:20250705T180000
DTEND;TZID=Europe/London:20250705T203000
DTSTAMP:20260304T203355Z
URL:https://mansfieldchoral.org/events/what-sweeter-music-and-all-that-jaz
 z-2/
SUMMARY:A Choral Kaleidoscope
DESCRIPTION:Music in the Air - Trad. Spiritual\, arr. Ryan Murphy\n\nHomewa
 rd Bound - Marta Keen\, arr. Jay Althouse\n\nSteal Away - Trad. Spiritual\
 , arr. Diane Haslam\nDeep River - Piano Solo by Stuart Ellis - Trad. Spiri
 tual\, arr. Samuel Coleridge-Taylor\nDrunken Sailor - Trad. British\, arr.
  Jonathan Willcocks\nLondonderry Air - Trad. Irish\, arr. Bob Chilcott\n\n
 Bobby Shafto - Trad. British\, arr. Alec Rowley\n\nThe Parting Glass - Tra
 d. Celtic\, arr. Craig McLeish\n\n\n\nDown To The River To Pray - Trad. Am
 erican\, arr. Diane Haslam\n\n\nAutumn Leaves - Joseph Kosma\, arr. Andrew
  Carter\n’S Wonderful - George Gershwin\, arr. David Blackwel\n\nOver th
 e Rainbow - Harold Arlen\, arr. Guy Turner\n\n\nThe Man I Love\, Piano Sol
 o - Stuart Ellis - George Gershwin\n\n\n\nAs Time Goes By - Herman Hupfeld
 \, arr. Jay Althouse\n\nMay It Be - Eithne Bhraonain\, arr. Mark Brymer\n\
 n\nLet The River Run - Carly Simon\, arr. Kirby Shaw\n\nMusic in the Air -
  Trad. Spiritual\, arr. Ryan Murphy\n\n\n\n
ATTACH;FMTTYPE=image/jpeg:https://mansfieldchoral.org/wp-content/uploads/2
 026/03/Concert-Facebook-Posts-2.png
CATEGORIES:Concert
LOCATION:Queen Elizabeths Academy\, 150 Chesterfield Road South\,  Mansfiel
 d\,  NG19 7AP\, United Kingdom
GEO:53.156193;-1.206456
X-APPLE-STRUCTURED-LOCATION;VALUE=URI;X-ADDRESS=150 Chesterfield Road South
 \,  Mansfield\,  NG19 7AP\, United Kingdom;X-APPLE-RADIUS=100;X-TITLE=Quee
 n Elizabeths Academy:geo:53.156193,-1.206456
END:VEVENT
BEGIN:VTIMEZONE
TZID:Europe/London
X-LIC-LOCATION:Europe/London
BEGIN:DAYLIGHT
DTSTART:20250330T020000
TZOFFSETFROM:+0000
TZOFFSETTO:+0100
TZNAME:BST
END:DAYLIGHT
END:VTIMEZONE
END:VCALENDAR