BEGIN:VCALENDAR
VERSION:2.0
PRODID:-//wp-events-plugin.com//7.2.3.1//EN
TZID:Europe/London
X-WR-TIMEZONE:Europe/London
BEGIN:VEVENT
UID:29@mansfieldchoral.org
DTSTART;TZID=Europe/London:20251213T150000
DTEND;TZID=Europe/London:20251213T180000
DTSTAMP:20260304T200737Z
URL:https://mansfieldchoral.org/events/what-sweeter-music-and-all-that-jaz
 z/
SUMMARY:What Sweeter Music (and all that jazz)
DESCRIPTION:An afternoon concert with seasonal tributes to Bob Chilcott and
  John Rutter including...\n\nChilcott's A Little Jazz Mass and On Christma
 s Night\, including This is the truth\, Adam lay ybounden\, A Spotless Ros
 e\, The Cherry Tree Carol\, O Little Town\, Sweet was the song\, Rejoice a
 nd be merry\n\nRutter popular carol arrangements including What sweeter mu
 sic\, Wexford carol\, I wonder as I wander\, The Twelve Days of Christmas\
 , Rise up shepherd and follow\, Star Carol.\n\nTickets are available on th
 e door or online through TicketSource or our SumUp Store. £17 inc mulled 
 wine\, mince pie &amp\; a programme. £5 for accompanied U16s\n\nTicketSou
 rce\n\nSumUp Store\n\n&nbsp\;
ATTACH;FMTTYPE=image/jpeg:https://mansfieldchoral.org/wp-content/uploads/2
 025/12/What-Sweeter-Music-Facebook-Post.png
CATEGORIES:Concert
LOCATION:Queen Elizabeths Academy\, 150 Chesterfield Road South\,  Mansfiel
 d\,  NG19 7AP\, United Kingdom
GEO:53.156193;-1.206456
X-APPLE-STRUCTURED-LOCATION;VALUE=URI;X-ADDRESS=150 Chesterfield Road South
 \,  Mansfield\,  NG19 7AP\, United Kingdom;X-APPLE-RADIUS=100;X-TITLE=Quee
 n Elizabeths Academy:geo:53.156193,-1.206456
END:VEVENT
BEGIN:VTIMEZONE
TZID:Europe/London
X-LIC-LOCATION:Europe/London
BEGIN:STANDARD
DTSTART:20251026T010000
TZOFFSETFROM:+0100
TZOFFSETTO:+0000
TZNAME:GMT
END:STANDARD
END:VTIMEZONE
END:VCALENDAR